BEGIN:VCALENDAR
VERSION:2.0
PRODID:-//hacksw/handcal//NONSGML v1.0//EN
BEGIN:VEVENT
SUMMARY:Sortie Match Maizieres Elite M 18/04
UID:1f42f239-15e6-4a31-9d1b-8aaa9a86e2a9
DTSTART:20260418T180000Z
DTEND:20260418T210000Z
LOCATION:Localisation Complexe Camille Mathieu, 1 Pl. Marcel Cerdan  MAIZIERES-LES-METZ
CATEGORIES:Manifestation
STATUS:
DESCRIPTION:<p style="text-align:justify;">Nous proposons a celles et
 ceux qui le souhaiterer d'assister au match d'Elite Masculine entre
 le MAIZIERES ATHLETIC CLUB VOLLEY-BALL et CONFLANS-ANDRESY-JOUY
 VOLLEY-BALL, samedi 18 avril a partir de 20h00.</p>
 
 <p
 style="text-align:justify;">Le choc entre les actuels deuxieme et
 quatrieme sera primordiale pour Maizieres pour l'ascension en
 professionnel alors qu'ils sont au coude-a-coude avec le Harnes
 Volley-Ball.</p>
 
 <p style="text-align:justify;">Du covoirturage
 pourra etre organise au depart de Metz. Attention il faut prevoir de
 venir tot (19h00) pour etre sur de disposer de place.</p>
URL;VALUE=URI:https://www.mevolley.com/evenements/2026/04/18/sortie-match-maizieres-elite-m-1804-2439298
END:VEVENT
END:VCALENDAR
